BEGIN:VCALENDAR
VERSION:2.0
PRODID:-//wp-events-plugin.com//7.2.3.1//EN
TZID:Europe/Vienna
X-WR-TIMEZONE:Europe/Vienna
BEGIN:VEVENT
UID:6-213@clubcomputer.at
DTSTART;TZID=Europe/Vienna:20180222T180000
DTEND;TZID=Europe/Vienna:20180222T210000
DTSTAMP:20171216T085626Z
URL:https://clubcomputer.at/veranstaltungen/cc-meating-braucht-man-ein-nas
 /
SUMMARY:cc-mEATing: Braucht man ein NAS?
DESCRIPTION:Braucht man ein NAS?\nWas ist ein NAS? Ein NAS (Network Attache
 d Storage) ist eine Anordnung von Festplatten\, auf die man von einem PC 
 über das Netzwerk zugreifen kann. Die Vorteile gegenüber derselben Anord
 nung in einem PC ist der viel geringere Energieverbrauch\, die Datensicher
 heit und die hohe Funktionalität\, die weit über das Speicher der Daten 
 allein hinausgeht.\n\n\n\nWer viel zu speichern hat und wem es auf Datensi
 cherheit ankommt\, rüstet sein Netzwerk mit einem solchen NAS aus. Walter
  Gruber wird uns über seine Erfahrungen mit einem NAS von Synology und  
 insbesondere über die vielfältigen Möglichkeiten eines solchen Geräts 
 berichten.\nVortragender\nWalter Gruber\n\n\nLinks\n\n 	NAS Network Attach
 ed Storage (Wikipedia)\n 	Synology (Wikipedia)\n 	Synology (Homepage)\n
ATTACH;FMTTYPE=image/jpeg:https://clubcomputer.at/wp-content/uploads/sites
 /6/2017/12/8bay1.png
CATEGORIES:mEATing
LOCATION:Simmeringer Bier & Kulturschmankerl\, Simmeringer Hauptstraße 152
 \, Wien\, Wien\, 1110\, Österreich
GEO:48.167441;16.422975
X-APPLE-STRUCTURED-LOCATION;VALUE=URI;X-ADDRESS=Simmeringer Hauptstraße 15
 2\, Wien\, Wien\, 1110\, Österreich;X-APPLE-RADIUS=100;X-TITLE=Simmeringe
 r Bier & Kulturschmankerl:geo:48.167441,16.422975
END:VEVENT
BEGIN:VTIMEZONE
TZID:Europe/Vienna
X-LIC-LOCATION:Europe/Vienna
BEGIN:STANDARD
DTSTART:20171029T020000
TZOFFSETFROM:+0200
TZOFFSETTO:+0100
TZNAME:CET
END:STANDARD
END:VTIMEZONE
END:VCALENDAR