BEGIN:VCALENDAR
VERSION:2.0
PRODID:-//wp-events-plugin.com//7.2.3.1//EN
TZID:Europe/Vienna
X-WR-TIMEZONE:Europe/Vienna
BEGIN:VEVENT
UID:6-310@clubcomputer.at
DTSTART;TZID=Europe/Vienna:20200116T180000
DTEND;TZID=Europe/Vienna:20200116T210000
DTSTAMP:20200114T164719Z
URL:https://clubcomputer.at/veranstaltungen/cc-meating-cloud-speicher/
SUMMARY:cc-Meating: Cloud-Speicher
DESCRIPTION:Programm\n\n 	16:00 Generalversamlung (im Gastraum)\n 	18:00 Ei
 nlass\, Abendessen (im Keller)\n 	19:00 Über den "Jahresregenten 2020"\, 
 die Strahlung\n 	19:20 Cloud-Speicher (Franz Fiala)\n 	19:20 OneDrive (Fra
 nz Fiala)\n 	19:50 OwnCloud (Günter Hartl)\n 	20:30 Verlosung von: IR-Tas
 chenlampe\, UV-Taschenlampe\, Lichtmühle\n\n\n\n\nCloud-Speicher\nCloud-S
 peicher sind persönliche Speicherbereiche\, die von verschiedenen Endger
 äten verwendet werden können und die in Internet-Servern verschiedener A
 nbieter gespeichert sind. Aus der großen Zahl solcher Lösungen zeigen wi
 r die Handhabung des OneDrive und des cc|drive (OwnCloud)\; des OneDrive\,
  weil er auf jedem PC verfügbar ist\, und des cc|drive\, weil es unsere C
 lub-Lösung ist und dieser Speicher sich in Österreich befindet.\n\nDer c
 c|drive - aber auch der OneDrive - spielen für uns eine besondere Rolle\,
  weil wir in beiden Speichersystemen unsere Clubunterlagen speichern und m
 it unseren Mitgliedern teilen. Diese zweite Eigenschaft von Cloud-Speicher
 n\, das Teilen von Daten erleichtert die Zusammenarbeit und hat im Privatb
 ereich das frühere Heimnetzwerk praktisch abgelöst.\nOneDrive\nJeder kan
 n bei Microsoft einen kostenlosen OneDrive-Speicher (5 GB) unabhängig vom
  verwendeten Endgerät bekommen\, wenn er nur ein Microsoft-Konto anlegt. 
 Man kann für mehr Cloud-Speicher auch mehrere Konten verwenden. Dieser Sp
 eicher ist über Browser von jedem Endgerät bedienbar.\n\nJeder PC-User k
 ann diese Speicherinhalte auf seinem PC replizieren\, das Windows-Betriebs
 system ist dafür eingerichtet. Aber man kann diesen Speicher auch von Han
 dies oder Tablets ansprechen.\ncc|drive (OwnCloud)\nVortragender: Günter 
 Hartl\n\nMitglieder bei ClubComputer verfügen durch ihre Club-Id automati
 sch Zugang zu 30 GB Cloudspeicher. So wie beim OneDrive kann man diesen Sp
 eicher einfach über einen Browser oder durch ein Client-Programm unter Wi
 ndows\, Linux\, Android oder iOS ansprechen.\n\nWir werden an diesem Abend
  vorstellen\, wie man cc|drive und OneDrive einrichtet und wie man beide a
 m Handy\, Notebook und am PC nutzt.\nGeneralversammlung\nUnsere Generalver
 sammlung findet ab 16:00 im Gastraum statt. Es sind keine Änderungen gepl
 ant. Wichtigster Tagesordnungspunkt ist der Finanzbericht und der Bericht 
 der Rechnungsprüfer.\nEMF (=Elektromagnetisches Feld)\n2020 gibt es einig
 e Vorträge\, die das Thema "Mobilfunk" direkt oder indirekt betreffen.:\n
 \n 	Di 2020-02-05 Messungen von E-Smog- und Mobilfunk-Feldern (Erwin Kamin
 ek)\n 	Do 2020-02-20 5G - Vorteile\, Nachteile\, Anwendungen (Ronald Hasen
 berger)\n 	Di 2020-03-03 Wissenschaft und Blödsinn (Florian Aigner)\n 	Do
  2020-04-23 Radio/TV\, Rundfunk Frequenzplan (Bernhard Schleser)\n\nIm Zus
 ammenhang mit "Strahlung" gibt es viele Publikationen\, die sich teilweise
  durch fehlendes Wissen um eben diese Strahlung auszeichnen und damit die 
 Leserschaft verunsichern. Dieser Unsicherheit soll durch unsere Vorträge 
 entgegengewirkt werden. Dazu sollen Informations-"Quanten" rund um den Beg
 riff "Strahlung" jeweils vor einem Vortrag unser Wissen in diesem Bereich 
 auffrischen und/oder vertiefen. Jede diese Kurzdarstellungen ist abgeschlo
 ssen und wird auch als Nachlese über unseren Newsletter verteilt. Die vor
 gestellten Aspekte von "Strahlung" sind: Alles strahlt · Ängste · Licht
 mühle · Schutzmaßnahmen · Elektromagnetisches Spektrum · Plancksches 
 Wirkungsquantum · Medien · Wärmetherapie · Natürliche Strahlung · St
 rahlungserzeugung · Teilchen-Welle · Grenzwerte.\n\nDie einzelnen Teilas
 pekte sind nicht zusammenhängend\, sollen aber am Jahresende ein Bild von
  Strahlung abgeben.\n\nAn diesem Abend wird das Wesen von Strahlung beleuc
 htet.
CATEGORIES:mEATing
LOCATION:Kulturschmankerl\, Simmeringer Hauptstraße 152\, Wien\, 1110\, Ö
 sterreich
X-APPLE-STRUCTURED-LOCATION;VALUE=URI;X-ADDRESS=Simmeringer Hauptstraße 15
 2\, Wien\, 1110\, Österreich;X-APPLE-RADIUS=100;X-TITLE=Kulturschmankerl:
 geo:0,0
END:VEVENT
BEGIN:VTIMEZONE
TZID:Europe/Vienna
X-LIC-LOCATION:Europe/Vienna
BEGIN:STANDARD
DTSTART:20191027T020000
TZOFFSETFROM:+0200
TZOFFSETTO:+0100
TZNAME:CET
END:STANDARD
END:VTIMEZONE
END:VCALENDAR