BEGIN:VCALENDAR
VERSION:2.0
PRODID:-//wp-events-plugin.com//7.2.3.1//EN
TZID:Europe/Vienna
X-WR-TIMEZONE:Europe/Vienna
BEGIN:VEVENT
UID:6-298@clubcomputer.at
DTSTART;TZID=Europe/Vienna:20190418T180000
DTEND;TZID=Europe/Vienna:20190418T210000
DTSTAMP:20190406T054621Z
URL:https://clubcomputer.at/veranstaltungen/cc-meating-office-365/
SUMMARY:cc-Meating: Office 365
DESCRIPTION:Office 365 für Unternehmen geschäftlich und privat nutzen\nOf
 fice 365 ist vielen vor allem als Lizenzierungs- und Mietmodell für die O
 ffice-Applikationen bekannt. Office 365 für Unternehmen bietet aber viele
 s mehr: professionelle E-Mail-Dienste\, riesigen Dateispeicher\, Apps für
  die Zusammenarbeit in Teams\, Online-Konferenzen uvm.\n\nAn diesem Abend 
 werdet ihr erfahren\, wie man in Office 365 für Unternehmen einsteigt\, w
 ie man es lizenziert\, welche Funktionen es bietet und wie man diese nutzt
 . Auch die laufende Administration wird Thema sein.\nVortragender: Roman K
 orecky\n\n\n 	Profil in Xing\n 	Profil auf LinkedIn\n 	Profil auf Facebook
 \n
CATEGORIES:mEATing
LOCATION:Simmeringer Bier & Kulturschmankerl\, Simmeringer Hauptstraße 152
 \, Wien\, Wien\, 1110\, Österreich
GEO:48.167441;16.422975
X-APPLE-STRUCTURED-LOCATION;VALUE=URI;X-ADDRESS=Simmeringer Hauptstraße 15
 2\, Wien\, Wien\, 1110\, Österreich;X-APPLE-RADIUS=100;X-TITLE=Simmeringe
 r Bier & Kulturschmankerl:geo:48.167441,16.422975
END:VEVENT
BEGIN:VTIMEZONE
TZID:Europe/Vienna
X-LIC-LOCATION:Europe/Vienna
BEGIN:DAYLIGHT
DTSTART:20190331T030000
TZOFFSETFROM:+0100
TZOFFSETTO:+0200
TZNAME:CEST
END:DAYLIGHT
END:VTIMEZONE
END:VCALENDAR