BEGIN:VCALENDAR
VERSION:2.0
PRODID:-//wp-events-plugin.com//7.2.3.1//EN
TZID:Europe/Vienna
X-WR-TIMEZONE:Europe/Vienna
BEGIN:VEVENT
UID:6-356@clubcomputer.at
DTSTART;TZID=Europe/Vienna:20220929T180000
DTEND;TZID=Europe/Vienna:20220929T210000
DTSTAMP:20220925T111151Z
URL:https://clubcomputer.at/veranstaltungen/cc-meating-verschluesselung/
SUMMARY:Verschlüsselung
DESCRIPTION:Achtung!\nWir versuchen es nun wieder im Simmeringer Bier- und 
 Kulturschmankerl!\nDerzeit ist das Corona Infektionsgeschehen überschauba
 r. Wie die Lage Ende September sein wird\, wissen wir noch nicht. Daher we
 rden vorsichtshalber nur 25 Plätze - also 50% - buchbar sein. Bitte zu eu
 rer eigenen Sicherheit Abstand halten - die Wirkung der Belüftung im Kell
 er des Clublokals ist bekanntlich nicht berühmt.\n\nVerschlüsselung\n&gt
 \;&gt\;&gt\;  Anmeldeschluss: 27.09.2022 12:00  &lt\;&lt\;&lt\;\n\n18:00
  Abendessen\, wer mag\n19:00 Vortrag\n\nWir alle haben Daten auf unseren C
 omputern\, die nicht für die Öffentlichkeit bestimmt sind. Doch was pass
 iert\, wenn ein Dieb unseren Computer stiehlt? Oder was passiert mit der a
 lten Platte im Falle eines Garantie-Tauschs. Immer wieder landen gebraucht
 e Festplatten mit vertraulichen Daten auf Plattformen wie eBay oder Willha
 ben (siehe z. B. https://www.heise.de/select/ct/2020/1/1577560218181384). 
 Mit Bitlocker können Datenträger so verschlüsselt werden\, dass derarti
 ge Vorkommnisse der Vergangenheit angehören. An diesem Abend soll der Aug
 enmerk auch auf Sonderfälle wie Backup und Hardware-Tausch gerichtet sein
 . Bonus: Dateien vor neugierigen Blicken von Administratoren mittels EFS s
 chützen.\n\nRoman Korecky\n\n 	Homepage\n 	Profil in Xing\n 	Profil auf L
 inkedIn\n 	Profil auf Facebook\n
ATTACH;FMTTYPE=image/jpeg:https://clubcomputer.at/wp-content/uploads/sites
 /6/2019/11/privacy-policy-encrypted-445156_960_720-pixabay.jpg
CATEGORIES:mEATing
LOCATION:Simmeringer Bier & Kulturschmankerl\, Simmeringer Hauptstraße 152
 \, Wien\, Wien\, 1110\, Österreich
GEO:48.167441;16.422975
X-APPLE-STRUCTURED-LOCATION;VALUE=URI;X-ADDRESS=Simmeringer Hauptstraße 15
 2\, Wien\, Wien\, 1110\, Österreich;X-APPLE-RADIUS=100;X-TITLE=Simmeringe
 r Bier & Kulturschmankerl:geo:48.167441,16.422975
END:VEVENT
BEGIN:VTIMEZONE
TZID:Europe/Vienna
X-LIC-LOCATION:Europe/Vienna
BEGIN:DAYLIGHT
DTSTART:20220327T030000
TZOFFSETFROM:+0100
TZOFFSETTO:+0200
TZNAME:CEST
END:DAYLIGHT
END:VTIMEZONE
END:VCALENDAR