BEGIN:VCALENDAR
VERSION:2.0
PRODID:-//wp-events-plugin.com//7.2.3.1//EN
TZID:Europe/Vienna
X-WR-TIMEZONE:Europe/Vienna
BEGIN:VEVENT
UID:6-492@clubcomputer.at
DTSTART;TZID=Europe/Vienna:20241126T180000
DTEND;TZID=Europe/Vienna:20241126T210000
DTSTAMP:20241126T172004Z
URL:https://clubcomputer.at/veranstaltungen/clubabend-202411/
SUMMARY:Clubabend: Telekom
DESCRIPTION:Telekommunikation &amp\; Nachhaltigkeit\nDer Energie- und Platz
 verbrauch von Telekommunikationsnetzwerken steigt\; gleichzeitig helfen Te
 lekommunikationsnetzwerke Reisen zu vermeiden\, Automatisierung in Herstel
 lungsprozessen zu ermöglichen\, die Effizienz von Ressourcenverbrauch zu 
 steigern\, und viele Aspekte des Lebens bequemer zu machen.\n\nDieser Vort
 rag beleuchtet einige der relevanten Aspekte gemeinsam mit einem Bewertung
 srahmen der Auswirkungen.\n\n\n\n\n\n\n\n\n\n\n\n\n\nVortrag: Ronald Hasen
 berger\nPrincipal Consultant\, Nokia Solutions and Networks Austria GmbH\n
 \n\n\n\n&nbsp\;\n\n&nbsp\;\n\n\n\n\n\n\n\n\n\n\n\nAnmeldung\nFür die Tei
 lnahme im Vortragsraum der Digital Society\, Anmeldung wie gewohnt für M
 itglieder und Interessenten kostenlos auf der Webseite von ClubComputer.\n
 \nFür die Teilnahme online via Teams melden Sie sich bitte wie oberhalb
  für Vortragsraum an\, verwenden dann aber bitte diesen Link:\nHier klick
 en\, um an der Besprechung teilzunehmen\nDer Name muss in beiden Fällen g
 enau der selbe (Realname) sein\, sonst können wir Sie im Warteraum vielle
 icht nicht erkennen und daher nicht einlassen.\nFotos und Videoaufzeichnun
 gen\nWissen und Informationen gehören uns allen. In den meisten Fällen z
 eichnen wir Veranstaltungen wie die gegenständliche auf\, um sie auch jen
 en zur Verfügung stellen zu können\, die nicht dabei sein können. Wir e
 rlauben daher auch Foto- und Videoaufnahmen. Allerdings müssen diese Werk
 e dann unter die Creative Commons Nutzungslizenz CC0 1.0 oder CC BY 4.0
  gestellt werden. Durch die Vor-Ort-Teilnahme an der Veranstaltung erklä
 ren sich die Teilnehmenden einverstanden\, dass von ihnen Fotos und Videoa
 ufnahmen.\nAnmeldeschluss: 25.11.2024 20:00
ATTACH;FMTTYPE=image/jpeg:https://clubcomputer.at/wp-content/uploads/sites
 /6/2024/10/202411-Clubabend-Telekom.png
CATEGORIES:Clubabend
LOCATION:Digital Society + Online\, Graben 17/10\, Wien\, 1010\, Österreic
 h
GEO:48.209075;16.368569
X-APPLE-STRUCTURED-LOCATION;VALUE=URI;X-ADDRESS=Graben 17/10\, Wien\, 1010\
 , Österreich;X-APPLE-RADIUS=100;X-TITLE=Digital Society + Online:geo:48.2
 09075,16.368569
END:VEVENT
BEGIN:VTIMEZONE
TZID:Europe/Vienna
X-LIC-LOCATION:Europe/Vienna
BEGIN:STANDARD
DTSTART:20241027T020000
TZOFFSETFROM:+0200
TZOFFSETTO:+0100
TZNAME:CET
END:STANDARD
END:VTIMEZONE
END:VCALENDAR