BEGIN:VCALENDAR
VERSION:2.0
PRODID:-//wp-events-plugin.com//7.2.3.1//EN
TZID:Europe/Vienna
X-WR-TIMEZONE:Europe/Vienna
BEGIN:VEVENT
UID:6-81@clubcomputer.at
DTSTART;TZID=Europe/Vienna:20170119T180000
DTEND;TZID=Europe/Vienna:20170119T210000
DTSTAMP:20170512T085750Z
URL:https://clubcomputer.at/veranstaltungen/clubabend-meating-14-2/
SUMMARY:cc-mEATing: Windows Registry
DESCRIPTION:\nWindows Registry\nDipl.-Ing. Georg Tsamis\n\n&nbsp\;\n\nWindo
 ws-Programme speichern Konfigurationsinformationen in einer Registrierungs
 datenbank (Windows Registry). Solange alles funktioniert\, weiß man nich
 t einmal\, dass es sie gibt. Es gibt aber Situationen\, in denen es erfor
 derlich ist\, Werte in dieser Datenbank zu ändern\, etwa\, weil die Benut
 zeroberfläche einfach nicht alle Einstellmöglichkeiten implementiert hat
 . Und dazu ist es gut zu wissen\, wie diese Registry aufgebaut ist und wi
 e man sie modifizieren kann.\n\nGeorg Tsamis wird uns in die Geheimnisse d
 ieser Datenbank einweihen.\nProgramme unter Windows\nWenn man ein Programm
  unter Windows installiert\, werden die Daten\, die zu dessen Funktion ben
 ötigt werden\, an verschiedenen Orten gespeichert\, einer davon ist die R
 egistry. Daneben gibt es aber eine große Zahl spezieller Ordner. Wir zei
 gen\, wie man sich mit dem Programm "SpecialFoldersView" einen Überblick
  über alle diese Speicherorte verschaffen kann.\n\nWenn man daher auf ein
 em fremden PC arbeitet\, dann sollte man sich das Programm "SpecialFolders
 View" auf den Stick mit den Portablen Programmen kopieren\, um den Überbl
 ick nicht zu verlieren.\nGODmode: alle Einstellungen des PC auf einen Blic
 k\nMit einem kleinen Registry-Trick kann man alle Windows-Einstellungen\, 
 die sich normalerweise auf viele Menüpunkte in der Systemsteuerung vertei
 len\, auf einer Seite zugänglich machen. Wir zeigen diesen und einige wei
 tere Anwendungen.\nRegistry Backup\nBei Experimenten mit der Registry läu
 ft man Gefahr\, dass man den ursprünglichen Zustand eventuell nicht mehr 
 rekonstruieren kann. Es ist dazu nicht notwendig\, die gesamte Registry zu
  sichern\, es genügt der jeweils betroffen Schlüssel.\nRegistry Tools\nU
 nsere Programmsammlung auf der Micro-SD-Karte bietet einige Tools für den
  Umgang mit der Registry. Wir stellen Euch diese Programme vor.
LOCATION:Simmeringer Bier & Kulturschmankerl\, Simmeringer Hauptstraße 152
 \, Wien\, Wien\, 1110\, Österreich
GEO:48.167441;16.422975
X-APPLE-STRUCTURED-LOCATION;VALUE=URI;X-ADDRESS=Simmeringer Hauptstraße 15
 2\, Wien\, Wien\, 1110\, Österreich;X-APPLE-RADIUS=100;X-TITLE=Simmeringe
 r Bier & Kulturschmankerl:geo:48.167441,16.422975
END:VEVENT
BEGIN:VTIMEZONE
TZID:Europe/Vienna
X-LIC-LOCATION:Europe/Vienna
BEGIN:STANDARD
DTSTART:20161030T020000
TZOFFSETFROM:+0200
TZOFFSETTO:+0100
TZNAME:CET
END:STANDARD
END:VTIMEZONE
END:VCALENDAR