BEGIN:VCALENDAR
VERSION:2.0
PRODID:-//wp-events-plugin.com//7.2.3.1//EN
TZID:Europe/Vienna
X-WR-TIMEZONE:Europe/Vienna
BEGIN:VEVENT
UID:6-25@clubcomputer.at
DTSTART;TZID=Europe/Vienna:20160315T180000
DTEND;TZID=Europe/Vienna:20160315T220000
DTSTAMP:20170512T163833Z
URL:https://clubcomputer.at/veranstaltungen/clubabend-meating-7/
SUMMARY:ClubComputer mEATing "Hausautomatisierung"
DESCRIPTION:Hausautomatisierung\n\n 	Überblick - Welche Systeme gibt es un
 d was sind die Unterschiede\nHomematic\, Fehm\, Z-Wave\, Zigbee\, Devolo\n
 \n\nHausautomatisierung mit Fibaro Home Center 2\n\n 	Fibaro Home Center 2
 \n 	Was kann die Anlage?\n 	Welche Komponenten gibt es und wie arbeiten si
 e zusammen?\n 	Erfahrungen bei der Ausbaustufe 1\n 	Komponenten anlernen\,
  Menüführung\, Oberfläche\, Bewegungssteuerung\n\nPaul Belcl\nWenn es u
 m Innovation geht\, dann gibt es nur einen: unseren Pauli\n\nEgal\, ob es 
 um das neueste Android-Handy geht\, das neueste Elektrofahrrad oder eben d
 as Neueste rund um die Haus-Elektronik\, dann ist man bei Pauli bestens be
 raten. Schaut Euch auf seiner WordPress-Seite um\, eine wahre Fundgrube: 
 http://blog.belcl.at/ (die Farbe ist für Rapidler schwer erträglich\, w
 er aber weiß\, dass die Farbe auf tschechisch "fiala" heißt\, ist dann d
 och ein bisschen beruhigt)
CATEGORIES:mEATing
LOCATION:Simmeringer Bier & Kulturschmankerl\, Simmeringer Hauptstraße 152
 \, Wien\, Wien\, 1110\, Österreich
GEO:48.167441;16.422975
X-APPLE-STRUCTURED-LOCATION;VALUE=URI;X-ADDRESS=Simmeringer Hauptstraße 15
 2\, Wien\, Wien\, 1110\, Österreich;X-APPLE-RADIUS=100;X-TITLE=Simmeringe
 r Bier & Kulturschmankerl:geo:48.167441,16.422975
END:VEVENT
BEGIN:VTIMEZONE
TZID:Europe/Vienna
X-LIC-LOCATION:Europe/Vienna
BEGIN:STANDARD
DTSTART:20151025T020000
TZOFFSETFROM:+0200
TZOFFSETTO:+0100
TZNAME:CET
END:STANDARD
END:VTIMEZONE
END:VCALENDAR