BEGIN:VCALENDAR
VERSION:2.0
PRODID:-//wp-events-plugin.com//7.2.3.1//EN
TZID:Europe/Vienna
X-WR-TIMEZONE:Europe/Vienna
BEGIN:VEVENT
UID:6-133@clubcomputer.at
DTSTART;TZID=Europe/Vienna:20170502T180000
DTEND;TZID=Europe/Vienna:20170502T210000
DTSTAMP:20170512T084914Z
URL:https://clubcomputer.at/veranstaltungen/clubabend-meating-arduino/
SUMMARY:cc-mEATing: Arduino
DESCRIPTION:Arduino\nBei diesem Clubabend geht es um den Mikrocontroller "A
 rduino"\, eine sehr populäre Spezies eines Mikrocontrollers. Entwickelt 2
 005 in Italien gibt es diesen Ein-Platinen-Mikrocontroller weltweit zu kau
 fen\; entweder im  Versandhandel oder in Spezialgeschäften\, zum Beispie
 l in Wien 9.\, bei semaf-electronics. (Parallelvermarktung auch unter "gen
 uino") Grundlegende Beschreibung.\n\nFür Mitglieder\, die mit Mikrocontro
 llern noch nicht in Berührung gekommen sind\, werden wir Euch die Merkma
 le eines solchen µC erklären und was der Unterschied zu unseren täglic
 hen Begleitern\, den Handies oder den Desktop-PCs ist.\nZum Inhalt\n\n 	Ar
 duino Boards\, Shields\, Breakouts\n 	ATMEL Mikrocontroller\, AVR CPU\n 	S
 ensoren\n 	Entwicklungssoftware\n 	Community\n\nErich wird Euch eine aus m
 ehreren verfügbaren Live-Demos zeigen. Und damit wir das Experiment auch 
 verfolgen können\, wird Erich eine Web-Cam und ein USB-"Mikroskop" am PC
  einsetzen.\n\nEine aus den folgenden Versuchsanordnungen werden wir am C
 lubabend live erleben:\n\n 	Luftdruck\n 	Feuchtigkeit\n 	Temperatur\n 	Ent
 fernung mit Ultraschall\n 	Erdmagnetfeld\n 	Beschleunigung\n 	Echtzeit-Uhr
 \n 	Ansteuerung von fernschaltbaren Steckdosen\n\n \nVortragender\nDipl.-
 Ing. Erich Pekar. Erich beschäftigt sich schon seit einigen Jahren mit de
 m Arduino und wird uns über seine Erfahrungen an diesem Clubabend bericht
 en.\n\n&nbsp\;
LOCATION:Simmeringer Bier & Kulturschmankerl\, Simmeringer Hauptstraße 152
 \, Wien\, Wien\, 1110\, Österreich
GEO:48.167441;16.422975
X-APPLE-STRUCTURED-LOCATION;VALUE=URI;X-ADDRESS=Simmeringer Hauptstraße 15
 2\, Wien\, Wien\, 1110\, Österreich;X-APPLE-RADIUS=100;X-TITLE=Simmeringe
 r Bier & Kulturschmankerl:geo:48.167441,16.422975
END:VEVENT
BEGIN:VTIMEZONE
TZID:Europe/Vienna
X-LIC-LOCATION:Europe/Vienna
BEGIN:DAYLIGHT
DTSTART:20170326T030000
TZOFFSETFROM:+0100
TZOFFSETTO:+0200
TZNAME:CEST
END:DAYLIGHT
END:VTIMEZONE
END:VCALENDAR