BEGIN:VCALENDAR
VERSION:2.0
PRODID:-//wp-events-plugin.com//7.2.3.1//EN
TZID:Europe/Vienna
X-WR-TIMEZONE:Europe/Vienna
BEGIN:VEVENT
UID:6-527@clubcomputer.at
DTSTART;TZID=Europe/Vienna:20250909T180000
DTEND;TZID=Europe/Vienna:20250909T203000
DTSTAMP:20250902T093209Z
URL:https://clubcomputer.at/veranstaltungen/clubcomputer-meatup-aktuelles-
 vom-club-ki-ueberblick/
SUMMARY:ClubComputer MeatUp: Aktuelles vom Club & KI Überblick
DESCRIPTION:Seit langem wieder: geselliges Essen\, Trinken und Plaudern –
  diesmal am Graben 17\n\nWANN\n9.9.2025\n18:00 - 20:30\nEinlass ab 17:30\;
  Beginn pünktlich um 18:00 Uhr\n\nWO\nGraben 17/10 (Mezzanin)\, 1010 Wien
 \nSollte die Hauseingangstüre geschlossen sein\, bitte bei "Digital Socie
 ty" läuten\, kurz warten (ca. 3 Sek.)\, dann gibt es einen kurzen Signalt
 on und die Tür wird automatisch entriegelt\n\nSeit dem Wegfall unseres Ku
 lturschmankerls in Simmering\, haben wir nach einem passenden Wirtshaus ge
 sucht\, aber leider nichts Vergleichbares gefunden.\nUm auf die Mischung a
 us geselligem Zusammensein und Informationen aus dem Club nicht ganz zu ve
 rzichten\, sind wir nun in unser Clublokal am Graben 17 übersiedelt.\n\nM
 it den vom Sommerfest bewährten Broten\, Aufstrichen\, und Getränken (au
 sgewählte weinviertler Weine\, 100-Blumen-Bier und die üblichen nicht-Al
 koholika) wollen wir in entspannter Atmosphäre zusammenkommen und uns aus
 tauschen.\n\nAls Rahmenprogramm gibt es Kurzvorträge von Andi Kunar über
 :\n\n 	Aktuelles aus dem Club\n 	eine kurze Einführung in die aktuelle KI
 \n\nWir würden uns sehr freuen\, Dich/Sie dort wiederzusehen.\n\nAnmeldun
 g\nFür die Teilnahme und zur Abschätzung fürs Buffet bitten wir um eure
  rasche Anmeldung\, wie gewohnt für Mitglieder und Clubinteressenten kost
 enlos auf der Webseite von ClubComputer.
ATTACH;FMTTYPE=image/jpeg:https://clubcomputer.at/wp-content/uploads/sites
 /6/2025/09/20250909-Einladungsgrafik.png
CATEGORIES:Clubabend,Forum KI,mEATing
LOCATION:Digital Society\, Graben 17/10\, Wien\, 1010\, Österreich
GEO:48.2091678;16.368636700000025
X-APPLE-STRUCTURED-LOCATION;VALUE=URI;X-ADDRESS=Graben 17/10\, Wien\, 1010\
 , Österreich;X-APPLE-RADIUS=100;X-TITLE=Digital Society:geo:48.2091678,16
 .368636700000025
END:VEVENT
BEGIN:VTIMEZONE
TZID:Europe/Vienna
X-LIC-LOCATION:Europe/Vienna
BEGIN:DAYLIGHT
DTSTART:20250330T030000
TZOFFSETFROM:+0100
TZOFFSETTO:+0200
TZNAME:CEST
END:DAYLIGHT
END:VTIMEZONE
END:VCALENDAR