BEGIN:VCALENDAR
VERSION:2.0
PRODID:-//wp-events-plugin.com//7.2.3.1//EN
TZID:Europe/Vienna
X-WR-TIMEZONE:Europe/Vienna
BEGIN:VEVENT
UID:6-462@clubcomputer.at
DTSTART;TZID=Europe/Vienna:20231017T180000
DTEND;TZID=Europe/Vienna:20231017T210000
DTSTAMP:20231002T080250Z
URL:https://clubcomputer.at/veranstaltungen/fake-news-erkennen-mimikama/
SUMMARY:Fake News erkennen (mimikama)
DESCRIPTION:(Bilder: © ORF\, mimikama)\nmimikama über sich selbst:\nmimik
 ama\, ein Verein gegen Internet-Missbrauch (o-Ton Andre Wolf)\n\nMimikama 
 ist eine internationale Anlaufstelle und Verein zur Aufklärung über Inte
 rnetbetrug\, Falschmeldungen sowie Computersicherheit und zur Förderung v
 on Medienkompetenz sowie eine Beobachtungsstelle für Desinformation und S
 ocial Media Analysen.\nBegonnen hat es\, ich glaube mich zu erinnern\, als
  ZDDK - zuerst denken\, dann klicken. Und das gilt natürlich immer noch s
 o.\nInhalt\n\n 	Grundlagen von Social Media\n 	sicherer Umgang mit Suchmas
 chinen\n 	Grundzüge des „Debunkings“\n 	Vermittlung der digitalen Med
 ienkompetenz\n 	Vermittlung der Fähigkeit\, fremde Internetinhalte auf Ma
 nipulation hin zu prüfen\n\n&nbsp\;\nVortrag: Andre Wolf\n\n 	Wolf ist au
 f Social-Media-Kommunikation spezialisiert und verfügt über langjährige
  Erfahrung in der Analyse von Internetinhalten\, insbesondere im Bereich d
 er sozialen Medien.\n 	Als Blogger\, Autor und Content- und Social Media K
 oordinator bei Mimikama ist er an vorderster Front der gesellschaftlich re
 levanten Arbeit gegen Falschmeldungen und Betrug im Netz tätig.\n 	Als Ex
 perte für Social Media erscheint Andre Wolf regelmäßig in unterschiedli
 chen Medien und besitzt große Bühnenerfahrung. Zudem ist er seit Jahren 
 fester Bestandteil der beliebten österreichischen TV-Show „Fakt oder Fa
 ke“.\n 	Wolf ist zu einem Verteidiger der Demokratie avanciert und arbei
 tet zudem in der Bundesstelle für Sektenfragen im Ausschuss „Verschwör
 ungstheorien“ und im No Hate Speech Komitee Austria.\n 	Mit seinen Büch
 ern „Die Fake-Jäger“ (2017) und „Angriff auf die Demokratie“ (202
 1) hat er seine Arbeit und sein Engagement im Kampf gegen Falschmeldungen 
 und Betrug im Netz dokumentiert.\n\n&nbsp\;\nUnsere Partner*innen:\n\n\n\n
 Veranstaltungspartner\n\nDiese Veranstaltung wird gemeinsam mit Digital So
 ciety durchgeführt.\n\n\n\n\nAnmeldung\nFür die Teilnahme im Vortragsra
 um der Digital Society\, Anmeldung wie gewohnt kostenlos auf der Webseite
  von ClubComputer.\n\nFür die Teilnahme online via Zoom\, Anmeldung auf 
 der Veranstaltungsseite der Digital Society. Für die kostenlose Teilnahm
 e bitte den Gutschein-Code clubcomputer eingeben. Die Gesamtsumme verän
 dert sich erst nach Eingabe und Anwendung des Gutschein-Codes auf 0\,00.\n
 Hinweis: im Zuge der Anmeldung zur Veranstaltung ist entweder die Anmeldun
 g auf der Webseite der Digital Society mit einem bereits bestehenden Konto
  durchzuführen oder ein Passwort für ein neues Konto einzugeben\, das 
 automatisch erstellt wird.\nDen Link für die Teilnahme via Zoom erhält
  man automatisch nach dem Kauf gemeinsam mit dem Ticket.\nFotos und Videoa
 ufzeichnungen\nWissen und Informationen gehören uns allen. In den meisten
  Fällen zeichnen wir Veranstaltungen wie die gegenständliche auf\, um si
 e auch jenen zur Verfügung stellen zu können\, die nicht dabei sein kön
 nen. Wir erlauben daher auch Foto- und Videoaufnahmen. Allerdings müssen 
 diese Werke dann unter die Creative Commons Nutzungslizenz CC0 1.0 oder
  CC BY 4.0 gestellt werden. Durch die Vor-Ort-Teilnahme an der Veranstal
 tung erklären sich die Teilnehmenden einverstanden\, dass von ihnen Fotos
  und Videoaufnahmen gemacht werden.\nAblauf\n\n\n\n18:00\nBeginn der Veran
 staltung (Imbiss und Netzwerken)\nim Vortragssaal der Digital Society\n\n\
 n19:00\nBeginn des Vortrages und Online Meeting\n\n\n\n\nnach dem Vortrag 
 noch Möglichkeit zum Netzwerken bei Getränken vor Ort\n\n\n\n\nDen Link 
 für die Teilnahme online via Zoom erhält man automatisch nur\, wenn dies
 e Veranstaltung über den folgenden Link gebucht wird:\nhttps://digisociet
 y.ngo/produkt/digitalk-fake-news-erkennen/\nAnmeldeschluss: 16.10.2023 22:
 00
ATTACH;FMTTYPE=image/jpeg:https://clubcomputer.at/wp-content/uploads/sites
 /6/2023/04/Andre-Wolf-Fake-News-Experte-mimikama-ZIB-Magazin.jpg
LOCATION:Digital Society + Online\, Graben 17/10\, Wien\, 1010\, Österreic
 h
GEO:48.209075;16.368569
X-APPLE-STRUCTURED-LOCATION;VALUE=URI;X-ADDRESS=Graben 17/10\, Wien\, 1010\
 , Österreich;X-APPLE-RADIUS=100;X-TITLE=Digital Society + Online:geo:48.2
 09075,16.368569
END:VEVENT
BEGIN:VTIMEZONE
TZID:Europe/Vienna
X-LIC-LOCATION:Europe/Vienna
BEGIN:DAYLIGHT
DTSTART:20230326T030000
TZOFFSETFROM:+0100
TZOFFSETTO:+0200
TZNAME:CEST
END:DAYLIGHT
END:VTIMEZONE
END:VCALENDAR