BEGIN:VCALENDAR
VERSION:2.0
PRODID:-//wp-events-plugin.com//7.2.3.1//EN
TZID:Europe/Vienna
X-WR-TIMEZONE:Europe/Vienna
BEGIN:VEVENT
UID:6-503@clubcomputer.at
DTSTART;TZID=Europe/Vienna:20250211T180000
DTEND;TZID=Europe/Vienna:20250211T203000
DTSTAMP:20250210T154727Z
URL:https://clubcomputer.at/veranstaltungen/forum-ki-praxisbeispiel-spende
 nbeguenstigungs-ki/
SUMMARY:Forum KI: Praxisbeispiel Spendenbegünstigungs-KI
DESCRIPTION:Foren\nDas Forum Künstliche Intelligenz ist eine monatliche Di
 skussionsgruppe zum Thema Künstliche Intelligenz (KI/AI)\, in der sich in
 teressierte Mitglieder\, die sich mit dem Thema bereits auseinandergesetzt
  haben\, treffen und austauschen. Ziel der Foren ist ist primär Informati
 onsaustausch und voneinander zu lernen. Nähere Informationen zu Foren si
 nd hier zu finden.\n\n&nbsp\;\nPraxisbeispiel Spendenbegünstigungs-KI\nIn
  seinem Gastvortrag erzählt Roland Giersig\, wie er bei OpenAI einen KI-A
 ssistenten gebaut hat\, der die Statuten von Vereinen hinsichtlich der Vor
 gaben des Finanzamts zur Spendenprivilegierung überprüft und Ratschläge
  gibt\, was zu verbessern wäre. Dabei behandelt er Themen wie System-Prom
 pting und Kontextualisierung und erklärt\, wie man von einer „nackten
 “ KI in Form eines GPTs zu einer KI-Persönlichkeit kommt.\n\nDer Vortra
 g eignet sich für Einsteiger\, die bereits ein wenig Erfahrung mit KIs wi
 e ChatGPT haben\, aber auch für Fortgeschrittene\, die mehr über die Hin
 tergründe und Techniken des Promptings erfahren möchten.\n\nEs werden Ei
 nblicke in die Grundprinzipien der LLM-Programmierung und die Kunst des Pr
 ompting geboten. In interaktiven Demos werden wir ausprobieren\, wie durch
  die Formulierung präziser Anfragen die Qualität der Antworten von KI-Mo
 dellen verbessert werden kann. Zudem besteht die Möglichkeit\, alle Arten
  von Fragen zu klären und tiefere Einblicke in die Welt der Künstlichen 
 Intelligenz und des maschinellen Lernens zu erhalten.\n\n 	Impulsvortrag (
 Roland Giersig) "Wie programmiere ich ein Large Language Model (LLM)?" \n 
 	Interaktives Ausprobieren von Prompts\n 	Erfahrungsaustausch zum Thema\n\
 nLeitung des Forums: Roland Giersig\nRoland Giersig ist Physiker\, studier
 t Rechtswissenschaften\, ist Sicherheitsexperte und Inhaber und Geschäfts
 führer der Firma SafeSec. Seine Anliegen sind besonders die Transparenz d
 er öffentlichen Verwaltung und die Einhaltung der Grundrechte im digitale
 n Raum. Aktuell beschäftigt er sich intensiv mit der Psychologie von LLMs
 .\nAnmeldung\nFür die Teilnahme im Vortragsraum der Digital Society\, A
 nmeldung wie gewohnt für Mitglieder und Interessenten kostenlos auf der W
 ebseite von ClubComputer.\n\nFür die Teilnahme online via Teams melden S
 ie sich bitte wie oberhalb für Vortragsraum an\, verwenden dann aber bitt
 e diesen Link:\nClick here to join the meeting\nDer Name muss in beiden F
 ällen genau der selbe (Realname) sein\, sonst können wir Sie im Warterau
 m vielleicht nicht erkennen und daher nicht einlassen.\nFotos und Videoauf
 zeichnungen\nWissen und Informationen gehören uns allen. In den meisten F
 ällen zeichnen wir Veranstaltungen wie die gegenständliche auf\, um sie 
 auch jenen zur Verfügung stellen zu können\, die nicht dabei sein könne
 n. Wir erlauben daher auch Foto- und Videoaufnahmen. Allerdings müssen di
 ese Werke dann unter die Creative Commons Nutzungslizenz CC0 1.0 oder C
 C BY 4.0 gestellt werden. Durch die Vor-Ort-Teilnahme an der Veranstaltun
 g erklären sich die Teilnehmenden einverstanden\, dass von ihnen Fotos un
 d Videoaufnahmen.\nAnmeldeschluss: 10.02.2025 20:00
ATTACH;FMTTYPE=image/jpeg:https://clubcomputer.at/wp-content/uploads/sites
 /6/2025/01/20250211-Forum-KI.png
CATEGORIES:Forum,Forum KI
LOCATION:Digital Society + Online\, Graben 17/10\, Wien\, 1010\, Österreic
 h
GEO:48.209075;16.368569
X-APPLE-STRUCTURED-LOCATION;VALUE=URI;X-ADDRESS=Graben 17/10\, Wien\, 1010\
 , Österreich;X-APPLE-RADIUS=100;X-TITLE=Digital Society + Online:geo:48.2
 09075,16.368569
END:VEVENT
BEGIN:VTIMEZONE
TZID:Europe/Vienna
X-LIC-LOCATION:Europe/Vienna
BEGIN:STANDARD
DTSTART:20241027T020000
TZOFFSETFROM:+0200
TZOFFSETTO:+0100
TZNAME:CET
END:STANDARD
END:VTIMEZONE
END:VCALENDAR