BEGIN:VCALENDAR
VERSION:2.0
PRODID:-//wp-events-plugin.com//7.2.3.1//EN
TZID:Europe/Vienna
X-WR-TIMEZONE:Europe/Vienna
BEGIN:VEVENT
UID:6-477@clubcomputer.at
DTSTART;TZID=Europe/Vienna:20240409T180000
DTEND;TZID=Europe/Vienna:20240409T203000
DTSTAMP:20240324T202642Z
URL:https://clubcomputer.at/veranstaltungen/forum-kuenstliche-intelligenz-
 3/
SUMMARY:Forum: Künstliche Intelligenz
DESCRIPTION:Foren\nDas Forum Künstliche Intelligenz ist eine monatliche Di
 skussionsgruppe zum Thema Künstliche Intelligenz (KI/AI)\, in der sich in
 teressierte Mitglieder\, die sich mit dem Thema bereits auseinandergesetzt
  haben\, treffen und austauschen. Ziel der Foren ist ist primär Informati
 onsaustausch und voneinander zu lernen. Nähere Informationen zu Foren si
 nd hier zu finden.\nKIs mit Speicher\nAktuelle Künstliche Intelligenz bes
 itzt ein fixes\, angelerntes Langzeitgedächtnis\, und ein flüchtiges Kur
 zzeitgedächtnis - ihr fehlt eine Art von Speicher. Moderne KIs wie das an
 gekündigte ChatGPT with Memory bzw. der aktuelle Copilot für Microsoft 3
 65 benützen nun eigene Speicherfunktionen für die KI. Dieser Speicher be
 dient sich derselben Technologie wie unser PCnewsGPT. Wir besprechen das w
 ie und sehen uns gemeinsam diese Anwendungen an.\n\n 	Impulsvortrag (Andi 
 Kunar) "Was ist eine KI mit Speicher?"\n 	Interaktives ausprobieren von PC
 newsGPT und Copilot for Microsoft 365\n 	Erfahrungsaustausch zum Thema\n\n
 Kurzvortrag und Leitung des Forums: Andi Kunar\nBin pensionierter Informat
 iker\, Marketer und Manager. War unter anderem Softwareentwickler\, Advanc
 ed Technical Specialist für Intel\, Geschäftsfeldleiter Server und Entwi
 cklungswerkzeuge bei Microsoft (für Österreich\, Schweiz bzw. Westeuropa
 )\, sowie zuletzt Director Presales &amp\; Marketing eines globalen Techno
 logieunternehmens. Mein Schwerpunkt ist\, komplexeste EDV-Technik nutzenor
 ientiert verständlich zu machen.\nAnmeldung\nFür die Teilnahme im Vortr
 agsraum der Digital Society\, Anmeldung wie gewohnt für Mitglieder und I
 nteressenten kostenlos auf der Webseite von ClubComputer.\n\nFür die Tei
 lnahme online via Zoom melden Sie sich bitte wie oberhalb für Vortragsrau
 m an\, verwenden dann aber bitte diesen Link:\nhttps://us02web.zoom.us/j/8
 7109731396?pwd=S215S3hCR0lEN0xZWnBOL1g3cU9FZz09\nDer Name muss in beiden F
 ällen genau der selbe (Realname) sein\, sonst können wir Sie im Warterau
 m vielleicht nicht erkennen und daher nicht einlassen.\nFotos und Videoauf
 zeichnungen\nWissen und Informationen gehören uns allen. In den meisten F
 ällen zeichnen wir Veranstaltungen wie die gegenständliche auf\, um sie 
 auch jenen zur Verfügung stellen zu können\, die nicht dabei sein könne
 n. Wir erlauben daher auch Foto- und Videoaufnahmen. Allerdings müssen di
 ese Werke dann unter die Creative Commons Nutzungslizenz CC0 1.0 oder C
 C BY 4.0 gestellt werden. Durch die Vor-Ort-Teilnahme an der Veranstaltun
 g erklären sich die Teilnehmenden einverstanden\, dass von ihnen Fotos un
 d Videoaufnahmen.\nAnmeldeschluss: 08.04.2024 20:00
ATTACH;FMTTYPE=image/jpeg:https://clubcomputer.at/wp-content/uploads/sites
 /6/2024/03/202404-KI.png
CATEGORIES:Forum,Forum KI
LOCATION:Digital Society + Online\, Graben 17/10\, Wien\, 1010\, Österreic
 h
GEO:48.209075;16.368569
X-APPLE-STRUCTURED-LOCATION;VALUE=URI;X-ADDRESS=Graben 17/10\, Wien\, 1010\
 , Österreich;X-APPLE-RADIUS=100;X-TITLE=Digital Society + Online:geo:48.2
 09075,16.368569
END:VEVENT
BEGIN:VTIMEZONE
TZID:Europe/Vienna
X-LIC-LOCATION:Europe/Vienna
BEGIN:DAYLIGHT
DTSTART:20240331T030000
TZOFFSETFROM:+0100
TZOFFSETTO:+0200
TZNAME:CEST
END:DAYLIGHT
END:VTIMEZONE
END:VCALENDAR