BEGIN:VCALENDAR
VERSION:2.0
PRODID:-//wp-events-plugin.com//7.2.3.1//EN
TZID:Europe/Vienna
X-WR-TIMEZONE:Europe/Vienna
BEGIN:VEVENT
UID:6-485@clubcomputer.at
DTSTART;TZID=Europe/Vienna:20240515T180000
DTEND;TZID=Europe/Vienna:20240515T203000
DTSTAMP:20240427T112607Z
URL:https://clubcomputer.at/veranstaltungen/forum-smart-home-iot-5/
SUMMARY:Forum: Smart Home | IoT
DESCRIPTION:Foren\nDas Forum Smart-Home / IoT ist eine monatliche Diskussio
 nsgruppe zum Thema Smart-Home / IoT\, in der sich interessierte Mitglieder
 \, die sich mit dem Thema bereits auseinandergesetzt haben\, treffen und a
 ustauschen. Ziel der Foren ist ist primär Informationsaustausch und vonei
 nander zu lernen. Nähere Informationen zu Foren sind hier zu finden.\n\n
 Das Internet of Things (oft mit “IoT” abgekürzt) ist in seinem grun
 dlegendsten Sinn die Kommunikation von Geräten miteinander\, die alle mit
  dem Internet verbunden sind und die alle ohne menschliche Interaktion Dat
 en senden und empfangen. (Quelle: Livi Project)\n\nSmart Home\, manchmal 
 auch Hausautomatisierung genannt\, ist ein spezieller Zweig des IoT\, de
 r sich auf Haushaltsgeräte und -einrichtungen konzentriert.\n\n&nbsp\;\nE
 instieg in Home Assistant\nHome Assistant ist eine kostenlose und quellof
 fene Software zur Hausautomation\, die als zentrales Steuerungssystem in 
 einem Smart Home oder Smart House konzipiert ist.\nEs werden die wesentli
 chen Protokolle unterstützt: Zigbee\, Z-wave\, Homematic\, Matter\, WLAN.
 ..\n\n 	Home Assistant als VM mit Virtualbox\n 	Einrichtung (administrativ
 )\n 	Integrationen ohne weitere Hardware\n 	Integration weiterer Hardware\
 n\n 	USB Zigbee Adapter installieren (SONOFF Zigbee 3.0 USB Dongle Plus)\n
  	Einbinden eines Sensors\n\n\n\nLink zur OVA für VirtualBox und für X86
  NAS mit Virtualisierung:\nhttps://www.dropbox.com/scl/fo/3k4uunf62kootlno
 tu91h/h?rlkey=851oxeaz2e28y1i0tw8ll6gu5&amp\;dl=0\n\n&nbsp\;\n\n\n\n\n\n\n
 \n\n\n\n\n\n\nLeitung des Forums und Vortrag: Hans Adam\n20 Jahre Direktor
  BORG Monsbergergasse. Beschäftigt sich mit IT-Infrastruktur\, Novell-Ins
 tructor\, Microsoft Server Zertifizierung\, Lehrer an der Cisco Networking
  Academy\, seit 20 Jahren Linux User auch am Desktop. Vernetzung der Schul
 en mit dem Internet. Smarthome Lösungen (besonders IoBroker und Homeassis
 tant).\n\n&nbsp\;\n\n\n\n\n\n\n\n\n\n\n\n\n\n\nAnmeldung\nDie Veranstaltun
 g findet NUR ONLINE statt.\nFür die Teilnahme online via Teams melden Si
 e sich bitte wie gewohnt kostenlos auf der Webseite von ClubComputer an\, 
 verwenden dann aber bitte diesen Link:\nClick here to join the meeting\nDe
 r Name muss der Realname sein\, sonst können wir Sie im Warteraum viellei
 cht nicht erkennen und daher nicht einlassen.\nFotos und Videoaufzeichnung
 en\nWissen und Informationen gehören uns allen. In den meisten Fällen ze
 ichnen wir Veranstaltungen wie die gegenständliche auf\, um sie auch jene
 n zur Verfügung stellen zu können\, die nicht dabei sein können. Wir er
 lauben daher auch Foto- und Videoaufnahmen. Allerdings müssen diese Werke
  dann unter die Creative Commons Nutzungslizenz CC0 1.0 oder CC BY 4.0
  gestellt werden. Durch die Vor-Ort-Teilnahme an der Veranstaltung erklä
 ren sich die Teilnehmenden einverstanden\, dass von ihnen Fotos und Videoa
 ufnahmen.\nAnmeldeschluss: 14.05.2024 20:00
ATTACH;FMTTYPE=image/jpeg:https://clubcomputer.at/wp-content/uploads/sites
 /6/2024/04/202405-IoT-Smarthome.png
CATEGORIES:Forum,Forum IoT
END:VEVENT
BEGIN:VTIMEZONE
TZID:Europe/Vienna
X-LIC-LOCATION:Europe/Vienna
BEGIN:DAYLIGHT
DTSTART:20240331T030000
TZOFFSETFROM:+0100
TZOFFSETTO:+0200
TZNAME:CEST
END:DAYLIGHT
END:VTIMEZONE
END:VCALENDAR