BEGIN:VCALENDAR
VERSION:2.0
PRODID:-//wp-events-plugin.com//7.2.3.1//EN
TZID:Europe/Vienna
X-WR-TIMEZONE:Europe/Vienna
BEGIN:VEVENT
UID:6-519@clubcomputer.at
DTSTART;TZID=Europe/Vienna:20250528T180000
DTEND;TZID=Europe/Vienna:20250528T210000
DTSTAMP:20250503T152220Z
URL:https://clubcomputer.at/veranstaltungen/forum-smart-home-iot-home-assi
 stant-programmierung-automationen-helfer-und-andere/
SUMMARY:Forum Smart Home | IoT - Home Assistant (Programmierung): Automatio
 nen\, Helfer und andere
DESCRIPTION:Home Assistant (Programmierung): Automationen\, Helfer und ande
 re\nGeplante Programmpunkte:\n\n 	Wie sind Automationen aufgebaut?\n 	Welc
 he HA-Komponenten sind dabei noch nützlich?\n 	Wie schreibe ich wiederver
 wendbaren Code?\n 	Schließlich: eine kurze Vorschau auf den Einsatz des E
 SP-01 und des ESP32.\n\nAchtung: Dieses Forum findet diesmal nur Online st
 att !!!\n\n\n\n\n\n\n\n\n\n\n\n\n\nLeitung des Forums: Martin Weissenböck
 \nMartin Weissenböck hat die HTL 3 Rennweg 23 Jahre lang geleitet\, schre
 ibt Skripten\, Lehrbücher und Artikel für die PCNEWS\, leitet die Arbeit
 sgemeinschaft für Didaktik\, Informatik und Mikroelektronik (ADIM) und de
 n Verein SCHUL.InfoSMS. Er hält Vorträge und ist Lehrbeauftragter an der
  Technischen Universität Wien.\n\n\n\n\n\n\n\n\n\n\n\n\n\n\nAnmeldung.\nF
 ür die Teilnahme online via Teams melden Sie sich bitte wie gewohnt kost
 enlos auf der Webseite von ClubComputer an\, verwenden dann aber bitte die
 sen Link:\n\n\nJetzt an der Besprechung teilnehmen\n\n\n\n\n\n\n\nWir bitt
 en Sie\, im Online-Meeting Realnamen zu verwenden\, sonst können wir Sie 
 im Warteraum vielleicht nicht erkennen und daher nicht einlassen.\nForen\n
 Das Forum Smart-Home / IoT ist eine monatliche Diskussionsgruppe zum Thema
  Smart-Home bzw. IoT\, in der sich interessierte Mitglieder\, die sich mit
  dem Thema bereits auseinandergesetzt haben bzw. auseinander setzen wollen
 \, treffen und austauschen. Ziel der Foren ist ist primär Informationsaus
 tausch und voneinander zu lernen. Nähere Informationen zu Foren sind hie
 r zu finden.\n\nDas Internet of Things (oft mit “IoT” abgekürzt) is
 t in seinem grundlegendsten Sinn die Kommunikation von Geräten miteinande
 r\, die mit dem Internet verbunden sind und die ohne menschliche Interakti
 on Daten senden und empfangen. (Quelle: Livi Project)\n\nSmart Home\, manc
 hmal auch Hausautomatisierung genannt\, ist ein spezieller Zweig des IoT
 \, der sich auf Haushaltsgeräte und -einrichtungen konzentriert.\nFotos u
 nd Videoaufzeichnungen\nWissen und Informationen gehören uns allen. In de
 n meisten Fällen zeichnen wir Veranstaltungen wie die gegenständliche au
 f\, um sie auch jenen zur Verfügung stellen zu können\, die nicht dabei 
 sein können. Wir erlauben daher auch Foto- und Videoaufnahmen. Allerdings
  müssen diese Werke dann unter die Creative Commons Nutzungslizenz CC0 1
 .0 oder CC BY 4.0 gestellt werden. Durch die Vor-Ort-Teilnahme an der V
 eranstaltung erklären sich die Teilnehmenden einverstanden\, dass von ihn
 en Fotos und Videoaufnahmen.\nAnmeldeschluss: 27.5.2025 20:00
ATTACH;FMTTYPE=image/jpeg:https://clubcomputer.at/wp-content/uploads/sites
 /6/2025/05/202505-IoT-Smarthome.png
CATEGORIES:Forum,Forum IoT
LOCATION:https://teams.microsoft.com/dl/launcher/launcher.html?url=%2F_%23%
 2Fl%2Fmeetup-join%2F19%3Ameeting_MTZjNjQ0MjYtNjMxNC00YzhkLThiNWEtMzllMGI5O
 DFiZDUw%40thread.v2%2F0%3Fcontext%3D%257b%2522Tid%2522%253a%2522b05791a0-7
 072-4c4b-b3f9-d566d2ca0b03%2522%252c%2522Oid%2522%253a%2522ca5bfc1b-5da4-4
 3f3-ae9a-37182a67792f%2522%257d%26anon%3Dtrue&type=meetup-join&deeplinkId=
 5832968f-63ec-40cb-a600-086ae617c2e5&directDl=true&msLaunch=true&enableMob
 ilePage=true&suppressPrompt=true
END:VEVENT
BEGIN:VTIMEZONE
TZID:Europe/Vienna
X-LIC-LOCATION:Europe/Vienna
BEGIN:DAYLIGHT
DTSTART:20250330T030000
TZOFFSETFROM:+0100
TZOFFSETTO:+0200
TZNAME:CEST
END:DAYLIGHT
END:VTIMEZONE
END:VCALENDAR