BEGIN:VCALENDAR
VERSION:2.0
PRODID:-//wp-events-plugin.com//7.2.3.1//EN
TZID:Europe/Vienna
X-WR-TIMEZONE:Europe/Vienna
BEGIN:VEVENT
UID:6-499@clubcomputer.at
DTSTART;TZID=Europe/Vienna:20241202T180000
DTEND;TZID=Europe/Vienna:20241202T213000
DTSTAMP:20241122T220827Z
URL:https://clubcomputer.at/veranstaltungen/generalversammlung-clubcompute
 r-2024/
SUMMARY:Generalversammlung ClubComputer 2024
DESCRIPTION:Generalversammlung ClubComputer 2024\nHinweis: nur für Clubmit
 glieder\nTagesordnung:\n\n 	Bericht des Präsidenten\n 	Bericht des Kassie
 rs / der Kassenprüfer\n 	Entlastung des Vorstandes\n 	Neuwahl des Vorstan
 des\n 	Statutenänderung (Spendenabsetzbarkeit)\n 	Allfälliges\n 	\n\n 	P
 lanung Zukunft\n\n 	Vorstandsitzungen / Beschlüsse (1. Montag im Monat)\n
 \n\n\n\n\nAnmeldung\nFür die Teilnahme im Vortragsraum der Digital Soci
 ety\, Anmeldung wie gewohnt kostenlos auf der Webseite von ClubComputer.\n
 \nDie Anmeldung muss diesmal mit Ihrer ClubComputer ID  name@clubcomputer
 .at  erfolgen. Andernfalls können Sie keinen Platz buchen.
ATTACH;FMTTYPE=image/jpeg:https://clubcomputer.at/wp-content/uploads/sites
 /6/2024/02/2024.01.15-Kick-off-Technologien-Schwerpunkte-2024-600x342-1.jp
 g
LOCATION:Digital Society\, Graben 17/10\, Wien\, 1010\, Österreich
GEO:48.2091678;16.368636700000025
X-APPLE-STRUCTURED-LOCATION;VALUE=URI;X-ADDRESS=Graben 17/10\, Wien\, 1010\
 , Österreich;X-APPLE-RADIUS=100;X-TITLE=Digital Society:geo:48.2091678,16
 .368636700000025
END:VEVENT
BEGIN:VTIMEZONE
TZID:Europe/Vienna
X-LIC-LOCATION:Europe/Vienna
BEGIN:STANDARD
DTSTART:20241027T020000
TZOFFSETFROM:+0200
TZOFFSETTO:+0100
TZNAME:CET
END:STANDARD
END:VTIMEZONE
END:VCALENDAR