BEGIN:VCALENDAR
VERSION:2.0
PRODID:-//wp-events-plugin.com//7.2.3.1//EN
TZID:Europe/Vienna
X-WR-TIMEZONE:Europe/Vienna
BEGIN:VEVENT
UID:6-459@clubcomputer.at
DTSTART;TZID=Europe/Vienna:20230420T180000
DTEND;TZID=Europe/Vienna:20230420T203000
DTSTAMP:20230403T171014Z
URL:https://clubcomputer.at/veranstaltungen/grundlagen-der-photovoltaik/
SUMMARY:Grundlagen der Photovoltaik
DESCRIPTION:Bild: pixabay\nGrundlagen der Photovoltaik\nMarkus König präs
 entiert uns alles über\n\n 	Photovoltaik (PV)\n 	Stromspeicher\n 	Ladesta
 tionen\n 	Lösungsprodukte\n 	und das wichtige Thema Sektorenkopplung / En
 ergiemanagement\n\n&nbsp\;\n\n&nbsp\;\nMarkus König\nIng. Markus KÖNIG w
 ar mit der Firma Comp Delphin bereits in den 90ern eng mit dem PCC-TGM ver
 bunden.\nNach mehreren Jahren bei einem internationalen Konzern (PHILIPS) 
 verschlug es Ihm 2004 wieder in die\nSelbstständigkeit und er gründete d
 en Großhändler Monitors and More IT-Handels GmbH. Hier wurden\n8 Jahre I
 T- und Unterhaltungselektronik-Produkte in Österreich vertrieben.\n\nNach
  einem abgeschlossenen Wirtschaftsstudium startete Markus König 2015 neue
 rlich mit seiner Firma.\nDieses Mal aber im Zukunftsmarkt Großhandel Phot
 ovoltaik/Stromspeicher. Nach ein paar harten Jahren kam das Unternehmen in
 s Laufen. Mit seinen über 150 Mitarbeitern betreut die internationale Fir
 mengruppe bereits über 1.000 Elektrotechnik-Unternehmen. Neben dem klassi
 schen Großhandel beschäftigt man eine Planungsabteilung mit &gt\;25 PV-P
 lanern/Technikern. Im Verbund gibt ein Montageunternehmen für Großanlage
 n (&gt\;1000qm). 2022 wurde auch im Bereich Contracting gestartet. Alle di
 ese Services werden ausschließlich über Elektriker angeboten.\n\n 	Ing M
 arkus König (LinkedIn)\n\n&nbsp\;\n\nAnmeldeschluss: 19.04.2023 20:00
ATTACH;FMTTYPE=image/jpeg:https://clubcomputer.at/wp-content/uploads/sites
 /6/2022/12/solar-cells-824691__340.jpg
CATEGORIES:mEATing
LOCATION:Simmeringer Bier & Kulturschmankerl\, Simmeringer Hauptstraße 152
 \, Wien\, Wien\, 1110\, Österreich
GEO:48.167441;16.422975
X-APPLE-STRUCTURED-LOCATION;VALUE=URI;X-ADDRESS=Simmeringer Hauptstraße 15
 2\, Wien\, Wien\, 1110\, Österreich;X-APPLE-RADIUS=100;X-TITLE=Simmeringe
 r Bier & Kulturschmankerl:geo:48.167441,16.422975
END:VEVENT
BEGIN:VTIMEZONE
TZID:Europe/Vienna
X-LIC-LOCATION:Europe/Vienna
BEGIN:DAYLIGHT
DTSTART:20230326T030000
TZOFFSETFROM:+0100
TZOFFSETTO:+0200
TZNAME:CEST
END:DAYLIGHT
END:VTIMEZONE
END:VCALENDAR