BEGIN:VCALENDAR
VERSION:2.0
PRODID:-//wp-events-plugin.com//7.2.3.1//EN
TZID:Europe/Vienna
X-WR-TIMEZONE:Europe/Vienna
BEGIN:VEVENT
UID:6-446@clubcomputer.at
DTSTART;TZID=Europe/Vienna:20220120T180000
DTEND;TZID=Europe/Vienna:20220120T200000
DTSTAMP:20220114T181406Z
URL:https://clubcomputer.at/veranstaltungen/interaktive-plauderstunde-zu-w
 indows-11/
SUMMARY:Interaktive Plauderstunde zu Windows 11
DESCRIPTION:Roman Korecky wird mit uns einen Blick auf das für fast alle v
 on uns noch neue Windows 11 werfen.\n\nWeil man in einem Online-Meeting be
 i langen Präsentationen schnell ermüdet\, will er interaktives Geschehen
  zum Thema in den Vordergrund stellen - wir fragen\, er antwortet und wir 
 alle können uns daran beteiligen.\n\nDieser Virtuelle Clubabend wird als 
 Zoom Meeting durchgeführt. Siehe dazu auch An einem Zoom Meeting teilnehm
 en.\n\nDer Link zur Teilnahme am Zoom Meeting wird im letzten Newsletter v
 or der Veranstaltung verschickt.\nAußerdem erhalten ihn alle\, die sich a
 uf der Veranstaltungsseite angemeldet haben\, per E-Mail zugesandt.\n\nAnm
 eldeschluss: 19.01.2022 18:00
ATTACH;FMTTYPE=image/jpeg:https://clubcomputer.at/wp-content/uploads/sites
 /6/2021/12/Windows-11_1920_Hero_Latest.jpg
END:VEVENT
BEGIN:VTIMEZONE
TZID:Europe/Vienna
X-LIC-LOCATION:Europe/Vienna
BEGIN:STANDARD
DTSTART:20211031T020000
TZOFFSETFROM:+0200
TZOFFSETTO:+0100
TZNAME:CET
END:STANDARD
END:VTIMEZONE
END:VCALENDAR