BEGIN:VCALENDAR
VERSION:2.0
PRODID:-//wp-events-plugin.com//7.2.3.1//EN
TZID:Europe/Vienna
X-WR-TIMEZONE:Europe/Vienna
BEGIN:VEVENT
UID:6-457@clubcomputer.at
DTSTART;TZID=Europe/Vienna:20230223T180000
DTEND;TZID=Europe/Vienna:20230223T203000
DTSTAMP:20230222T074042Z
URL:https://clubcomputer.at/veranstaltungen/multi-faktor-authentifizierung
 -mfa-2/
SUMMARY:Multi-Faktor-Authentifizierung (MFA)
DESCRIPTION:ACHTUNG: Die Veranstaltung wurde von 16.02.2023 um eine Woche a
 uf 23.02.2023 verschoben.\nEin Passwort kann schneller gestohlen werden\, 
 als man denkt. Wer sein Benutzerkonto bei Facebook\, Instagram &amp\; Co. 
 trotzdem zuverlässig schützen möchte\, sollte unbedingt die Zwei-Stufen
 -Authentifizierung nutzen.\n\nQuelle: https://www.saferinternet.at/news-d
 etail/benutzerkonten-doppelt-schuetzen/\nDie Multi-Faktor-Authentifizieru
 ng (MFA)\, auch Multifaktor-Authentisierung\, ist eine Verallgemeinerung 
 der Zwei-Faktor-Authentisierung\, bei der die Zugangsberechtigung durch m
 ehrere unabhängige Merkmale (Faktoren) überprüft wird.\nMöglich sind m
 ehrere Faktoren. Verbreitet sind zur Zeit:\n\n• „knowledge“\, also 
 „Wissen“\, etwas\, das der Nutzer weiß (beispielsweise ein Passwort)
 \,\n• „ownership“\, also „Besitz“\, etwas\, das nur der Nutzer 
 besitzt (beispielsweise ein Mobiltelefon)\,\n• „inherence“\, also 
 „Inhärenz“\, etwas\, das der Nutzer ist (beispielsweise ein Finger
 abdruck)\n• „location“\, also „Ort“\, ein Ort\, an dem sich der
  Nutzer befindet\n\nQuelle: https://de.wikipedia.org/wiki/Multi-Faktor-Au
 thentisierung\nRoman wird uns zeigen\, wie man seine Logins bei diversen D
 iensten absichert. Er wird uns dazu herkömmliche MFA mit Authenticator-Ap
 ps zeigen und auch mit modernen FIDO2-Keys.\n\nWenn ihr uns – mit E-Mail
  an buero@clubcomputer.at – bis 13.11.2022 mitteilt\, welche Online-Dien
 ste ihr nutzt und besser absichern wollt\, dann können die meistgenannten
  Dienste in die folgende Liste aufgenommen werden\, die vorläufig als Bei
 spiele dies enthält:\n\n 	Windows\n 	Microsoft 365 (privat/Enterprise)\n 
 	Google (privat)\n 	Facebook\n 	Twitter\n 	Instagram\n 	Dropbox\n 	Github\
 n\nRoman wird daraus gegebenenfalls eine Auswahl treffen.\nVortrag: Roman 
 Korecky\n\n 	Homepage\n 	Profil in Xing\n 	Profil auf LinkedIn\n 	Profil a
 uf Facebook\n\n&nbsp\;\n\n&nbsp\;\n\nDieser Virtuelle Clubabend wird als Z
 oom Meeting durchgeführt. Siehe dazu auch An einem Zoom Meeting teilnehme
 n.\n\nDas Zoom Meeting wird aufgezeichnet und Clubmitgliedern zur Verfugun
 g gestellt.. Teilnehmen bedeutet damit einverstanden zu sein.\n\nDer Link 
 zur Teilnahme am Zoom Meeting wird im letzten Newsletter vor der Veranstal
 tung verschickt.\nAußerdem erhalten ihn alle\, die sich auf der Veranstal
 tungsseite angemeldet haben\, per E-Mail zugesandt.\n\nAnmeldeschluss: 23.
 02.2023 13:00\n\n
ATTACH;FMTTYPE=image/jpeg:https://clubcomputer.at/wp-content/uploads/sites
 /6/2022/10/Multi-Faktor-Authentifizierung.png
CATEGORIES:mEATing
END:VEVENT
BEGIN:VTIMEZONE
TZID:Europe/Vienna
X-LIC-LOCATION:Europe/Vienna
BEGIN:STANDARD
DTSTART:20221030T020000
TZOFFSETFROM:+0200
TZOFFSETTO:+0100
TZNAME:CET
END:STANDARD
END:VTIMEZONE
END:VCALENDAR