BEGIN:VCALENDAR
VERSION:2.0
PRODID:-//wp-events-plugin.com//7.2.3.1//EN
TZID:Europe/Vienna
X-WR-TIMEZONE:Europe/Vienna
BEGIN:VEVENT
UID:6-37@clubcomputer.at
DTSTART;TZID=Europe/Vienna:20161206T180000
DTEND;TZID=Europe/Vienna:20161206T220000
DTSTAMP:20170512T085831Z
URL:https://clubcomputer.at/veranstaltungen/weihnachtsfeier/
SUMMARY:Weihnachtsfeier
DESCRIPTION:Traditionelle Weihnachsfeier zum Jahresausklang.
LOCATION:Simmeringer Bier & Kulturschmankerl\, Simmeringer Hauptstraße 152
 \, Wien\, Wien\, 1110\, Österreich
GEO:48.167441;16.422975
X-APPLE-STRUCTURED-LOCATION;VALUE=URI;X-ADDRESS=Simmeringer Hauptstraße 15
 2\, Wien\, Wien\, 1110\, Österreich;X-APPLE-RADIUS=100;X-TITLE=Simmeringe
 r Bier & Kulturschmankerl:geo:48.167441,16.422975
END:VEVENT
BEGIN:VTIMEZONE
TZID:Europe/Vienna
X-LIC-LOCATION:Europe/Vienna
BEGIN:STANDARD
DTSTART:20161030T020000
TZOFFSETFROM:+0200
TZOFFSETTO:+0100
TZNAME:CET
END:STANDARD
END:VTIMEZONE
END:VCALENDAR